BEGIN:VCALENDAR
VERSION:2.0
PRODID:-//CSG South - ECPv6.8.1//NONSGML v1.0//EN
CALSCALE:GREGORIAN
METHOD:PUBLISH
X-WR-CALNAME:CSG South
X-ORIGINAL-URL:https://csgsouth.org
X-WR-CALDESC:Events for CSG South
REFRESH-INTERVAL;VALUE=DURATION:PT1H
X-Robots-Tag:noindex
X-PUBLISHED-TTL:PT1H
BEGIN:VTIMEZONE
TZID:America/Chicago
BEGIN:DAYLIGHT
TZOFFSETFROM:-0600
TZOFFSETTO:-0500
TZNAME:CDT
DTSTART:20220313T080000
END:DAYLIGHT
BEGIN:STANDARD
TZOFFSETFROM:-0500
TZOFFSETTO:-0600
TZNAME:CST
DTSTART:20221106T070000
END:STANDARD
BEGIN:DAYLIGHT
TZOFFSETFROM:-0600
TZOFFSETTO:-0500
TZNAME:CDT
DTSTART:20230312T080000
END:DAYLIGHT
BEGIN:STANDARD
TZOFFSETFROM:-0500
TZOFFSETTO:-0600
TZNAME:CST
DTSTART:20231105T070000
END:STANDARD
BEGIN:DAYLIGHT
TZOFFSETFROM:-0600
TZOFFSETTO:-0500
TZNAME:CDT
DTSTART:20240310T080000
END:DAYLIGHT
BEGIN:STANDARD
TZOFFSETFROM:-0500
TZOFFSETTO:-0600
TZNAME:CST
DTSTART:20241103T070000
END:STANDARD
END:VTIMEZONE
BEGIN:VEVENT
DTSTART;TZID=America/Chicago:20240521T080000
DTEND;TZID=America/Chicago:20240522T170000
DTSTAMP:20260424T164215
CREATED:20240212T205520Z
LAST-MODIFIED:20240212T205520Z
UID:7777-1716278400-1716397200@csgsouth.org
SUMMARY:North Carolina State Visit from CSG South Team
DESCRIPTION:
URL:https://csgsouth.org/event/north-carolina-state-visit-from-csg-south-team/
CATEGORIES:CSG South Team Visits
ATTACH;FMTTYPE=image/png:https://csgsouth.org/wp-content/uploads/Untitled-design-20.png
END:VEVENT
BEGIN:VEVENT
DTSTART;TZID=America/Chicago:20240430T080000
DTEND;TZID=America/Chicago:20240501T170000
DTSTAMP:20260424T164215
CREATED:20240212T205148Z
LAST-MODIFIED:20240212T205148Z
UID:7774-1714464000-1714582800@csgsouth.org
SUMMARY:Arkansas State Visit from CSG South Team
DESCRIPTION:
URL:https://csgsouth.org/event/arkansas-state-visit-from-csg-south-team/
CATEGORIES:CSG South Team Visits
ATTACH;FMTTYPE=image/png:https://csgsouth.org/wp-content/uploads/Untitled-design-19.png
END:VEVENT
BEGIN:VEVENT
DTSTART;TZID=America/Chicago:20240423T080000
DTEND;TZID=America/Chicago:20240424T170000
DTSTAMP:20260424T164215
CREATED:20240212T204843Z
LAST-MODIFIED:20240212T204843Z
UID:7769-1713859200-1713978000@csgsouth.org
SUMMARY:Alabama State Visit from CSG South Team
DESCRIPTION:
URL:https://csgsouth.org/event/alabama-state-visit-from-csg-south-team/
CATEGORIES:CSG South Team Visits
ATTACH;FMTTYPE=image/png:https://csgsouth.org/wp-content/uploads/Untitled-design-18.png
END:VEVENT
BEGIN:VEVENT
DTSTART;TZID=America/Chicago:20240416T080000
DTEND;TZID=America/Chicago:20240418T170000
DTSTAMP:20260424T164215
CREATED:20240212T203922Z
LAST-MODIFIED:20240212T203922Z
UID:7766-1713254400-1713459600@csgsouth.org
SUMMARY:Louisiana State Visit from CSG South Team
DESCRIPTION:
URL:https://csgsouth.org/event/louisiana-state-visit-from-csg-south-team/
CATEGORIES:CSG South Team Visits
ATTACH;FMTTYPE=image/png:https://csgsouth.org/wp-content/uploads/Untitled-design-17-1.png
END:VEVENT
BEGIN:VEVENT
DTSTART;TZID=America/Chicago:20240326T080000
DTEND;TZID=America/Chicago:20240327T170000
DTSTAMP:20260424T164215
CREATED:20240205T210945Z
LAST-MODIFIED:20240205T210945Z
UID:7740-1711440000-1711558800@csgsouth.org
SUMMARY:Tennessee State Visit from the CSG South Team
DESCRIPTION:
URL:https://csgsouth.org/event/tennessee-state-visit-from-the-csg-south-team-2/
CATEGORIES:CSG South Team Visits
ATTACH;FMTTYPE=image/png:https://csgsouth.org/wp-content/uploads/Untitled-design-16-1.png
END:VEVENT
BEGIN:VEVENT
DTSTART;TZID=America/Chicago:20240312T080000
DTEND;TZID=America/Chicago:20240313T170000
DTSTAMP:20260424T164215
CREATED:20240102T214505Z
LAST-MODIFIED:20240102T214505Z
UID:7518-1710230400-1710349200@csgsouth.org
SUMMARY:Oklahoma State Visit from the CSG South Team
DESCRIPTION:
URL:https://csgsouth.org/event/oklahoma-state-visit-from-the-csg-south-team-2/
CATEGORIES:CSG South Team Visits
ATTACH;FMTTYPE=image/png:https://csgsouth.org/wp-content/uploads/Untitled-design-13-1.png
END:VEVENT
BEGIN:VEVENT
DTSTART;TZID=America/Chicago:20240214T080000
DTEND;TZID=America/Chicago:20240216T170000
DTSTAMP:20260424T164215
CREATED:20240102T213947Z
LAST-MODIFIED:20240214T194143Z
UID:7512-1707897600-1708102800@csgsouth.org
SUMMARY:Georgia State Visit from the CSG South Team
DESCRIPTION:
URL:https://csgsouth.org/event/georgia-state-visit-from-the-csg-south-team-2/
CATEGORIES:CSG South Team Visits
ATTACH;FMTTYPE=image/png:https://csgsouth.org/wp-content/uploads/Untitled-design-11-1.png
END:VEVENT
BEGIN:VEVENT
DTSTART;TZID=America/Chicago:20240130T080000
DTEND;TZID=America/Chicago:20240131T170000
DTSTAMP:20260424T164215
CREATED:20240102T212006Z
LAST-MODIFIED:20240102T212006Z
UID:7494-1706601600-1706720400@csgsouth.org
SUMMARY:Florida State Visit from the CSG South Team
DESCRIPTION:
URL:https://csgsouth.org/event/florida-state-visit-from-the-csg-south-team/
CATEGORIES:CSG South Team Visits
ATTACH;FMTTYPE=image/png:https://csgsouth.org/wp-content/uploads/Untitled-design-9-1.png
END:VEVENT
BEGIN:VEVENT
DTSTART;TZID=America/Chicago:20240123T080000
DTEND;TZID=America/Chicago:20240125T170000
DTSTAMP:20260424T164215
CREATED:20240102T210737Z
LAST-MODIFIED:20240102T210737Z
UID:7491-1705996800-1706202000@csgsouth.org
SUMMARY:West Virginia State Visit from the CSG South Team
DESCRIPTION:
URL:https://csgsouth.org/event/west-virginia-state-visit-from-the-csg-south-team/
CATEGORIES:CSG South Team Visits
ATTACH;FMTTYPE=image/jpeg:https://csgsouth.org/wp-content/uploads/Untitled-design.jpg
END:VEVENT
BEGIN:VEVENT
DTSTART;TZID=America/Chicago:20230708T080000
DTEND;TZID=America/Chicago:20230712T170000
DTSTAMP:20260424T164215
CREATED:20230123T201232Z
LAST-MODIFIED:20230123T201232Z
UID:5428-1688803200-1689181200@csgsouth.org
SUMMARY:77th Southern Legislative Conference
DESCRIPTION:
URL:https://csgsouth.org/event/77th-southern-legislative-conference/
CATEGORIES:CSG South Team Visits,Sessions,Southern Legislative Conference
ATTACH;FMTTYPE=image/png:https://csgsouth.org/wp-content/uploads/SLC-SC-2023-Logo-Date.png
END:VEVENT
BEGIN:VEVENT
DTSTART;TZID=America/Chicago:20230425T080000
DTEND;TZID=America/Chicago:20230426T170000
DTSTAMP:20260424T164215
CREATED:20230123T195736Z
LAST-MODIFIED:20230123T195736Z
UID:5424-1682409600-1682528400@csgsouth.org
SUMMARY:Alabama State Visit
DESCRIPTION:https://alison.legislature.state.al.us/
URL:https://csgsouth.org/event/alabama-state-visit/
CATEGORIES:CSG South Team Visits
ATTACH;FMTTYPE=image/svg+xml:https://csgsouth.org/wp-content/uploads/alabama.svg
END:VEVENT
BEGIN:VEVENT
DTSTART;TZID=America/Chicago:20230418T080000
DTEND;TZID=America/Chicago:20230420T170000
DTSTAMP:20260424T164215
CREATED:20230123T195558Z
LAST-MODIFIED:20230123T195558Z
UID:5422-1681804800-1682010000@csgsouth.org
SUMMARY:Louisiana State Visit
DESCRIPTION:https://legis.la.gov/legis/home.aspx
URL:https://csgsouth.org/event/louisiana-state-visit/
CATEGORIES:CSG South Team Visits
ATTACH;FMTTYPE=image/svg+xml:https://csgsouth.org/wp-content/uploads/louisiana.svg
END:VEVENT
BEGIN:VEVENT
DTSTART;TZID=America/Chicago:20230410T080000
DTEND;TZID=America/Chicago:20230412T170000
DTSTAMP:20260424T164215
CREATED:20230123T195437Z
LAST-MODIFIED:20230123T195437Z
UID:5420-1681113600-1681318800@csgsouth.org
SUMMARY:Tennessee State Visit
DESCRIPTION:https://capitol.tn.gov/
URL:https://csgsouth.org/event/tennessee-state-visit/
CATEGORIES:CSG South Team Visits
ATTACH;FMTTYPE=image/svg+xml:https://csgsouth.org/wp-content/uploads/tennessee.svg
END:VEVENT
BEGIN:VEVENT
DTSTART;TZID=America/Chicago:20230404T080000
DTEND;TZID=America/Chicago:20230405T170000
DTSTAMP:20260424T164215
CREATED:20230123T195256Z
LAST-MODIFIED:20230123T195256Z
UID:5418-1680595200-1680714000@csgsouth.org
SUMMARY:Florida State Visit
DESCRIPTION:http://www.leg.state.fl.us/Welcome/index.cfm
URL:https://csgsouth.org/event/florida-state-visit/
CATEGORIES:CSG South Team Visits
ATTACH;FMTTYPE=image/svg+xml:https://csgsouth.org/wp-content/uploads/florida.svg
END:VEVENT
BEGIN:VEVENT
DTSTART;TZID=America/Chicago:20230328T080000
DTEND;TZID=America/Chicago:20230330T170000
DTSTAMP:20260424T164215
CREATED:20230123T194850Z
LAST-MODIFIED:20230123T194850Z
UID:5416-1679990400-1680195600@csgsouth.org
SUMMARY:South Carolina State Visit
DESCRIPTION:https://www.scstatehouse.gov/
URL:https://csgsouth.org/event/south-carolina-state-visit/
CATEGORIES:CSG South Team Visits
ATTACH;FMTTYPE=image/svg+xml:https://csgsouth.org/wp-content/uploads/southcarolina.svg
END:VEVENT
BEGIN:VEVENT
DTSTART;TZID=America/Chicago:20230314T080000
DTEND;TZID=America/Chicago:20230315T170000
DTSTAMP:20260424T164215
CREATED:20230123T194018Z
LAST-MODIFIED:20230224T151719Z
UID:5412-1678780800-1678899600@csgsouth.org
SUMMARY:North Carolina State Visit
DESCRIPTION:https://www.ncleg.gov/
URL:https://csgsouth.org/event/north-carolina-state-visit/
CATEGORIES:CSG South Team Visits
ATTACH;FMTTYPE=image/svg+xml:https://csgsouth.org/wp-content/uploads/northcarolina.svg
END:VEVENT
BEGIN:VEVENT
DTSTART;TZID=America/Chicago:20230307T080000
DTEND;TZID=America/Chicago:20230308T170000
DTSTAMP:20260424T164215
CREATED:20230123T194244Z
LAST-MODIFIED:20230224T151602Z
UID:5414-1678176000-1678294800@csgsouth.org
SUMMARY:Oklahoma State Visit
DESCRIPTION:http://www.oklegislature.gov/
URL:https://csgsouth.org/event/oklahoma-state-visit/
CATEGORIES:CSG South Team Visits
ATTACH;FMTTYPE=image/svg+xml:https://csgsouth.org/wp-content/uploads/oklahoma.svg
END:VEVENT
BEGIN:VEVENT
DTSTART;VALUE=DATE:20230307
DTEND;VALUE=DATE:20230308
DTSTAMP:20260424T164215
CREATED:20230123T200324Z
LAST-MODIFIED:20230123T200324Z
UID:5426-1678147200-1678233599@csgsouth.org
SUMMARY:Georgia State Visit (date TBD)
DESCRIPTION:https://www.legis.ga.gov/
URL:https://csgsouth.org/event/georgia-state-visit-date-tbd/
CATEGORIES:CSG South Team Visits
ATTACH;FMTTYPE=image/svg+xml:https://csgsouth.org/wp-content/uploads/georgia.svg
END:VEVENT
BEGIN:VEVENT
DTSTART;TZID=America/Chicago:20230228T080000
DTEND;TZID=America/Chicago:20230301T170000
DTSTAMP:20260424T164215
CREATED:20230119T163554Z
LAST-MODIFIED:20230130T190448Z
UID:5374-1677571200-1677690000@csgsouth.org
SUMMARY:Arkansas State Visit
DESCRIPTION:
URL:https://csgsouth.org/event/arkansas-state-visit/
CATEGORIES:CSG South Team Visits
ATTACH;FMTTYPE=image/svg+xml:https://csgsouth.org/wp-content/uploads/arkansas.svg
END:VEVENT
BEGIN:VEVENT
DTSTART;TZID=America/Chicago:20230214T080000
DTEND;TZID=America/Chicago:20230215T170000
DTSTAMP:20260424T164215
CREATED:20230123T191303Z
LAST-MODIFIED:20230123T191303Z
UID:5406-1676361600-1676480400@csgsouth.org
SUMMARY:Kentucky State Visit
DESCRIPTION:https://legislature.ky.gov/Pages/index.aspx
URL:https://csgsouth.org/event/kentucky-state-visit/
CATEGORIES:CSG South Team Visits
ATTACH;FMTTYPE=image/svg+xml:https://csgsouth.org/wp-content/uploads/kentucky.svg
END:VEVENT
BEGIN:VEVENT
DTSTART;TZID=America/Chicago:20230206T080000
DTEND;TZID=America/Chicago:20230208T170000
DTSTAMP:20260424T164215
CREATED:20230123T190006Z
LAST-MODIFIED:20230123T190006Z
UID:5404-1675670400-1675875600@csgsouth.org
SUMMARY:Missouri State Visit
DESCRIPTION:https://www.mo.gov/government/legislative-branch/
URL:https://csgsouth.org/event/missouri-state-visit/
CATEGORIES:CSG South Team Visits
ATTACH;FMTTYPE=image/svg+xml:https://csgsouth.org/wp-content/uploads/missouri.svg
END:VEVENT
BEGIN:VEVENT
DTSTART;TZID=America/Chicago:20230124T080000
DTEND;TZID=America/Chicago:20230125T170000
DTSTAMP:20260424T164215
CREATED:20230119T163428Z
LAST-MODIFIED:20230125T221755Z
UID:5372-1674547200-1674666000@csgsouth.org
SUMMARY:West Virginia State Visit
DESCRIPTION:
URL:https://csgsouth.org/event/west-virginia-state-visit-2/
CATEGORIES:CSG South Team Visits
ATTACH;FMTTYPE=image/svg+xml:https://csgsouth.org/wp-content/uploads/westvirginia.svg
END:VEVENT
BEGIN:VEVENT
DTSTART;TZID=America/Chicago:20230117T080000
DTEND;TZID=America/Chicago:20230119T170000
DTSTAMP:20260424T164215
CREATED:20230119T163205Z
LAST-MODIFIED:20230119T163205Z
UID:5370-1673942400-1674147600@csgsouth.org
SUMMARY:Virginia State Visit
DESCRIPTION:
URL:https://csgsouth.org/event/virginia-state-visit/
CATEGORIES:CSG South Team Visits
ATTACH;FMTTYPE=image/svg+xml:https://csgsouth.org/wp-content/uploads/virginia-1.svg
END:VEVENT
BEGIN:VEVENT
DTSTART;VALUE=DATE:20220607
DTEND;VALUE=DATE:20220609
DTSTAMP:20260424T164215
CREATED:20220513T151605Z
LAST-MODIFIED:20220513T162632Z
UID:4131-1654560000-1654732799@csgsouth.org
SUMMARY:North Carolina State Visit from the CSG South Team
DESCRIPTION:
URL:https://csgsouth.org/event/north-carolina-state-visit-from-the-csg-south-team/
CATEGORIES:CSG South Team Visits
ATTACH;FMTTYPE=image/svg+xml:https://csgsouth.org/wp-content/uploads/northcarolina.svg
END:VEVENT
BEGIN:VEVENT
DTSTART;VALUE=DATE:20220420
DTEND;VALUE=DATE:20220422
DTSTAMP:20260424T164215
CREATED:20220511T204730Z
LAST-MODIFIED:20220511T204805Z
UID:4127-1650412800-1650585599@csgsouth.org
SUMMARY:Louisiana State Visit from the CSG South Team
DESCRIPTION:
URL:https://csgsouth.org/event/louisiana-state-visit-from-the-csg-south-team/
CATEGORIES:CSG South Team Visits
ATTACH;FMTTYPE=image/svg+xml:https://csgsouth.org/wp-content/uploads/louisiana.svg
END:VEVENT
BEGIN:VEVENT
DTSTART;TZID=America/Chicago:20220412T080000
DTEND;TZID=America/Chicago:20220414T170000
DTSTAMP:20260424T164215
CREATED:20220511T204301Z
LAST-MODIFIED:20220511T204301Z
UID:4125-1649750400-1649955600@csgsouth.org
SUMMARY:Oklahoma State Visit from the CSG South Team
DESCRIPTION:
URL:https://csgsouth.org/event/oklahoma-state-visit-from-the-csg-south-team/
CATEGORIES:CSG South Team Visits
ATTACH;FMTTYPE=image/svg+xml:https://csgsouth.org/wp-content/uploads/oklahoma.svg
END:VEVENT
BEGIN:VEVENT
DTSTART;VALUE=DATE:20220329
DTEND;VALUE=DATE:20220331
DTSTAMP:20260424T164215
CREATED:20220121T190422Z
LAST-MODIFIED:20220131T195106Z
UID:866-1648512000-1648684799@csgsouth.org
SUMMARY:South Carolina State Visit from the CSG South Team
DESCRIPTION:
URL:https://csgsouth.org/event/south-carolina-state-visit-from-the-csg-south-team/
CATEGORIES:CSG South Team Visits
ATTACH;FMTTYPE=image/svg+xml:https://csgsouth.org/wp-content/uploads/southcarolina.svg
END:VEVENT
BEGIN:VEVENT
DTSTART;VALUE=DATE:20220323
DTEND;VALUE=DATE:20220325
DTSTAMP:20260424T164215
CREATED:20220121T190325Z
LAST-MODIFIED:20220131T201453Z
UID:864-1647993600-1648166399@csgsouth.org
SUMMARY:Missouri State Visit from the CSG South Team
DESCRIPTION:
URL:https://csgsouth.org/event/missouri-state-visit-from-the-csg-south-team/
CATEGORIES:CSG South Team Visits
ATTACH;FMTTYPE=image/svg+xml:https://csgsouth.org/wp-content/uploads/missouri.svg
END:VEVENT
BEGIN:VEVENT
DTSTART;VALUE=DATE:20220315
DTEND;VALUE=DATE:20220317
DTSTAMP:20260424T164215
CREATED:20220121T190202Z
LAST-MODIFIED:20220131T201543Z
UID:860-1647302400-1647475199@csgsouth.org
SUMMARY:Mississippi State Visit from the CSG South Team
DESCRIPTION:
URL:https://csgsouth.org/event/mississippi-state-visit-from-the-csg-south-team/
CATEGORIES:CSG South Team Visits
ATTACH;FMTTYPE=image/svg+xml:https://csgsouth.org/wp-content/uploads/mississippi.svg
END:VEVENT
BEGIN:VEVENT
DTSTART;VALUE=DATE:20220308
DTEND;VALUE=DATE:20220310
DTSTAMP:20260424T164215
CREATED:20220121T190012Z
LAST-MODIFIED:20220131T201724Z
UID:856-1646697600-1646870399@csgsouth.org
SUMMARY:Georgia State Visit from the CSG South Team
DESCRIPTION:
URL:https://csgsouth.org/event/georgia-state-visit-from-the-csg-south-team/
CATEGORIES:CSG South Team Visits
ATTACH;FMTTYPE=image/svg+xml:https://csgsouth.org/wp-content/uploads/georgia.svg
END:VEVENT
END:VCALENDAR