BEGIN:VCALENDAR
VERSION:2.0
PRODID:-//CSG South - ECPv6.8.1//NONSGML v1.0//EN
CALSCALE:GREGORIAN
METHOD:PUBLISH
X-ORIGINAL-URL:https://csgsouth.org
X-WR-CALDESC:Events for CSG South
REFRESH-INTERVAL;VALUE=DURATION:PT1H
X-Robots-Tag:noindex
X-PUBLISHED-TTL:PT1H
BEGIN:VTIMEZONE
TZID:America/Chicago
BEGIN:DAYLIGHT
TZOFFSETFROM:-0600
TZOFFSETTO:-0500
TZNAME:CDT
DTSTART:20250309T080000
END:DAYLIGHT
BEGIN:STANDARD
TZOFFSETFROM:-0500
TZOFFSETTO:-0600
TZNAME:CST
DTSTART:20251102T070000
END:STANDARD
END:VTIMEZONE
BEGIN:VEVENT
DTSTART;TZID=America/Chicago:20250522T113000
DTEND;TZID=America/Chicago:20250522T123000
DTSTAMP:20260425T053552
CREATED:20250507T164453Z
LAST-MODIFIED:20250507T164453Z
UID:10386-1747913400-1747917000@csgsouth.org
SUMMARY:Upcoming Webinar: Rooted in Resilience
DESCRIPTION:Mental illness affects nearly 1 in 5 adults in rural America—yet limited broadband\, provider shortages\, and stigma often stand between residents and the support they need. \nIn recognition of Mental Health Awareness Month\, CSG South\, in partnership with the State Exchange on Employment and Disability (SEED)\, invites you to an upcoming webinar: \nRooted in Resilience: Strengthening Workforce Mental Health Supports in Rural Communities — Thursday\, May 22 | 11:30 AM – 12:30 PM (ET) \nThis one-hour panel discussion will examine Southern states’ mental health policy landscape\, highlighting how lawmakers are working to expand access and strengthen rural workforce supports. Expert panelists will offer insights tailored to legislative staff and state officials seeking actionable\, forward-thinking strategies. \nRegister now to reserve your spot and explore how your state can strengthen rural resilience through targeted mental health policy.
URL:https://csgsouth.org/event/upcoming-webinar-rooted-in-resilience/
CATEGORIES:CSG South Webinars
ATTACH;FMTTYPE=image/png:https://csgsouth.org/wp-content/uploads/Rooted-In-Resilience_ZoomWebinar_Wallpaper.png
END:VEVENT
END:VCALENDAR