BEGIN:VCALENDAR
VERSION:2.0
PRODID:-//CSG South - ECPv6.8.1//NONSGML v1.0//EN
CALSCALE:GREGORIAN
METHOD:PUBLISH
X-ORIGINAL-URL:https://csgsouth.org
X-WR-CALDESC:Events for CSG South
REFRESH-INTERVAL;VALUE=DURATION:PT1H
X-Robots-Tag:noindex
X-PUBLISHED-TTL:PT1H
BEGIN:VTIMEZONE
TZID:America/Chicago
BEGIN:DAYLIGHT
TZOFFSETFROM:-0600
TZOFFSETTO:-0500
TZNAME:CDT
DTSTART:20250309T080000
END:DAYLIGHT
BEGIN:STANDARD
TZOFFSETFROM:-0500
TZOFFSETTO:-0600
TZNAME:CST
DTSTART:20251102T070000
END:STANDARD
END:VTIMEZONE
BEGIN:VEVENT
DTSTART;TZID=America/Chicago:20251208T120000
DTEND;TZID=America/Chicago:20251208T130000
DTSTAMP:20260424T212012
CREATED:20251124T164007Z
LAST-MODIFIED:20251124T164007Z
UID:11789-1765195200-1765198800@csgsouth.org
SUMMARY:Webinar: "What's Coming Down" for States: Fiscal and Program Impacts
DESCRIPTION:Presented by SAIL\, a program of CSG South.\nRegister now!
URL:https://csgsouth.org/event/webinar-whats-coming-down-for-states-fiscal-and-program-impacts/
CATEGORIES:CSG South Webinars
ATTACH;FMTTYPE=image/jpeg:https://csgsouth.org/wp-content/uploads/Sail-Webinar_Whats-Coming-Down-for-States_Wallpaper-2_1920x1080-1-scaled-e1765306473725.jpg
LOCATION:
END:VEVENT
END:VCALENDAR