BEGIN:VCALENDAR
VERSION:2.0
PRODID:-//CSG South - ECPv6.8.1//NONSGML v1.0//EN
CALSCALE:GREGORIAN
METHOD:PUBLISH
X-WR-CALNAME:CSG South
X-ORIGINAL-URL:https://csgsouth.org
X-WR-CALDESC:Events for CSG South
REFRESH-INTERVAL;VALUE=DURATION:PT1H
X-Robots-Tag:noindex
X-PUBLISHED-TTL:PT1H
BEGIN:VTIMEZONE
TZID:America/Chicago
BEGIN:DAYLIGHT
TZOFFSETFROM:-0600
TZOFFSETTO:-0500
TZNAME:CDT
DTSTART:20260308T080000
END:DAYLIGHT
BEGIN:STANDARD
TZOFFSETFROM:-0500
TZOFFSETTO:-0600
TZNAME:CST
DTSTART:20261101T070000
END:STANDARD
END:VTIMEZONE
BEGIN:VEVENT
DTSTART;VALUE=DATE:20260918
DTEND;VALUE=DATE:20260919
DTSTAMP:20260425T080924
CREATED:20260313T193121Z
LAST-MODIFIED:20260313T193611Z
UID:13844-1789689600-1789775999@csgsouth.org
SUMMARY:CSG South Webinar
DESCRIPTION:CSG South webinars bring together Southern state leaders and government staff to explore policy and professional development topics through a nonpartisan lens. Sessions feature practitioners\, researchers\, and public-sector leaders sharing insights\, emerging trends\, and lessons from across the region. Join to gain practical guidance\, expand your knowledge\, and support effective decision-making in state government. \nView upcoming webinar topics\, dates\, and times\, and register to join.
URL:https://csgsouth.org/event/csg-south-webinar/2026-09-18/
CATEGORIES:CSG South Webinars
ATTACH;FMTTYPE=image/png:https://csgsouth.org/wp-content/uploads/Your-paragraph-text-64.png
END:VEVENT
BEGIN:VEVENT
DTSTART;VALUE=DATE:20261002
DTEND;VALUE=DATE:20261003
DTSTAMP:20260425T080924
CREATED:20260313T193121Z
LAST-MODIFIED:20260313T193611Z
UID:13845-1790899200-1790985599@csgsouth.org
SUMMARY:CSG South Webinar
DESCRIPTION:CSG South webinars bring together Southern state leaders and government staff to explore policy and professional development topics through a nonpartisan lens. Sessions feature practitioners\, researchers\, and public-sector leaders sharing insights\, emerging trends\, and lessons from across the region. Join to gain practical guidance\, expand your knowledge\, and support effective decision-making in state government. \nView upcoming webinar topics\, dates\, and times\, and register to join.
URL:https://csgsouth.org/event/csg-south-webinar/2026-10-02/
CATEGORIES:CSG South Webinars
ATTACH;FMTTYPE=image/png:https://csgsouth.org/wp-content/uploads/Your-paragraph-text-64.png
END:VEVENT
BEGIN:VEVENT
DTSTART;VALUE=DATE:20261016
DTEND;VALUE=DATE:20261017
DTSTAMP:20260425T080924
CREATED:20260313T193121Z
LAST-MODIFIED:20260313T193611Z
UID:13846-1792108800-1792195199@csgsouth.org
SUMMARY:CSG South Webinar
DESCRIPTION:CSG South webinars bring together Southern state leaders and government staff to explore policy and professional development topics through a nonpartisan lens. Sessions feature practitioners\, researchers\, and public-sector leaders sharing insights\, emerging trends\, and lessons from across the region. Join to gain practical guidance\, expand your knowledge\, and support effective decision-making in state government. \nView upcoming webinar topics\, dates\, and times\, and register to join.
URL:https://csgsouth.org/event/csg-south-webinar/2026-10-16/
CATEGORIES:CSG South Webinars
ATTACH;FMTTYPE=image/png:https://csgsouth.org/wp-content/uploads/Your-paragraph-text-64.png
END:VEVENT
BEGIN:VEVENT
DTSTART;VALUE=DATE:20261106
DTEND;VALUE=DATE:20261107
DTSTAMP:20260425T080924
CREATED:20260313T193121Z
LAST-MODIFIED:20260313T193612Z
UID:13847-1793923200-1794009599@csgsouth.org
SUMMARY:CSG South Webinar
DESCRIPTION:CSG South webinars bring together Southern state leaders and government staff to explore policy and professional development topics through a nonpartisan lens. Sessions feature practitioners\, researchers\, and public-sector leaders sharing insights\, emerging trends\, and lessons from across the region. Join to gain practical guidance\, expand your knowledge\, and support effective decision-making in state government. \nView upcoming webinar topics\, dates\, and times\, and register to join.
URL:https://csgsouth.org/event/csg-south-webinar/2026-11-06/
CATEGORIES:CSG South Webinars
ATTACH;FMTTYPE=image/png:https://csgsouth.org/wp-content/uploads/Your-paragraph-text-64.png
END:VEVENT
BEGIN:VEVENT
DTSTART;VALUE=DATE:20261120
DTEND;VALUE=DATE:20261121
DTSTAMP:20260425T080924
CREATED:20260313T193121Z
LAST-MODIFIED:20260313T193612Z
UID:13848-1795132800-1795219199@csgsouth.org
SUMMARY:CSG South Webinar
DESCRIPTION:CSG South webinars bring together Southern state leaders and government staff to explore policy and professional development topics through a nonpartisan lens. Sessions feature practitioners\, researchers\, and public-sector leaders sharing insights\, emerging trends\, and lessons from across the region. Join to gain practical guidance\, expand your knowledge\, and support effective decision-making in state government. \nView upcoming webinar topics\, dates\, and times\, and register to join.
URL:https://csgsouth.org/event/csg-south-webinar/2026-11-20/
CATEGORIES:CSG South Webinars
ATTACH;FMTTYPE=image/png:https://csgsouth.org/wp-content/uploads/Your-paragraph-text-64.png
END:VEVENT
BEGIN:VEVENT
DTSTART;VALUE=DATE:20261204
DTEND;VALUE=DATE:20261205
DTSTAMP:20260425T080924
CREATED:20260313T193121Z
LAST-MODIFIED:20260313T193612Z
UID:13849-1796342400-1796428799@csgsouth.org
SUMMARY:CSG South Webinar
DESCRIPTION:CSG South webinars bring together Southern state leaders and government staff to explore policy and professional development topics through a nonpartisan lens. Sessions feature practitioners\, researchers\, and public-sector leaders sharing insights\, emerging trends\, and lessons from across the region. Join to gain practical guidance\, expand your knowledge\, and support effective decision-making in state government. \nView upcoming webinar topics\, dates\, and times\, and register to join.
URL:https://csgsouth.org/event/csg-south-webinar/2026-12-04/
CATEGORIES:CSG South Webinars
ATTACH;FMTTYPE=image/png:https://csgsouth.org/wp-content/uploads/Your-paragraph-text-64.png
END:VEVENT
END:VCALENDAR