BEGIN:VCALENDAR
VERSION:2.0
PRODID:-//CSG South - ECPv6.8.1//NONSGML v1.0//EN
CALSCALE:GREGORIAN
METHOD:PUBLISH
X-WR-CALNAME:CSG South
X-ORIGINAL-URL:https://csgsouth.org
X-WR-CALDESC:Events for CSG South
REFRESH-INTERVAL;VALUE=DURATION:PT1H
X-Robots-Tag:noindex
X-PUBLISHED-TTL:PT1H
BEGIN:VTIMEZONE
TZID:America/Chicago
BEGIN:DAYLIGHT
TZOFFSETFROM:-0600
TZOFFSETTO:-0500
TZNAME:CDT
DTSTART:20260308T080000
END:DAYLIGHT
BEGIN:STANDARD
TZOFFSETFROM:-0500
TZOFFSETTO:-0600
TZNAME:CST
DTSTART:20261101T070000
END:STANDARD
END:VTIMEZONE
BEGIN:VEVENT
DTSTART;VALUE=DATE:20260109
DTEND;VALUE=DATE:20260110
DTSTAMP:20260424T193842
CREATED:20251124T162439Z
LAST-MODIFIED:20251126T184005Z
UID:11781-1767916800-1768003199@csgsouth.org
SUMMARY:Policy Masterclass Interest Form Opens
DESCRIPTION:
URL:https://csgsouth.org/event/policy-masterclass-interest-form-opens/
CATEGORIES:Policy Masterclass
ATTACH;FMTTYPE=image/png:https://csgsouth.org/wp-content/uploads/PolicyMasterclass-STACKED-1-e1764001533855.png
END:VEVENT
END:VCALENDAR