BEGIN:VCALENDAR
VERSION:2.0
PRODID:-//CSG South - ECPv6.8.1//NONSGML v1.0//EN
CALSCALE:GREGORIAN
METHOD:PUBLISH
X-WR-CALNAME:CSG South
X-ORIGINAL-URL:https://csgsouth.org
X-WR-CALDESC:Events for CSG South
REFRESH-INTERVAL;VALUE=DURATION:PT1H
X-Robots-Tag:noindex
X-PUBLISHED-TTL:PT1H
BEGIN:VTIMEZONE
TZID:America/Chicago
BEGIN:DAYLIGHT
TZOFFSETFROM:-0600
TZOFFSETTO:-0500
TZNAME:CDT
DTSTART:20230312T080000
END:DAYLIGHT
BEGIN:STANDARD
TZOFFSETFROM:-0500
TZOFFSETTO:-0600
TZNAME:CST
DTSTART:20231105T070000
END:STANDARD
END:VTIMEZONE
BEGIN:VEVENT
DTSTART;VALUE=DATE:20230616
DTEND;VALUE=DATE:20230617
DTSTAMP:20260424T161359
CREATED:20230224T154051Z
LAST-MODIFIED:20230224T154051Z
UID:5844-1686873600-1686959999@csgsouth.org
SUMMARY:LAST DAY to Submit Proposed Policy Position (CSG South Committee Members Only) - SLC 2023
DESCRIPTION:Policy Positions
URL:https://csgsouth.org/event/last-day-to-submit-proposed-policy-position-csg-south-committee-members-only-slc-2023/
CATEGORIES:Sessions,Southern Legislative Conference
ATTACH;FMTTYPE=image/png:https://csgsouth.org/wp-content/uploads/SLC-SC-2023-Logo-Date.png
END:VEVENT
BEGIN:VEVENT
DTSTART;VALUE=DATE:20230616
DTEND;VALUE=DATE:20230617
DTSTAMP:20260424T161359
CREATED:20230224T155804Z
LAST-MODIFIED:20230224T155804Z
UID:5851-1686873600-1686959999@csgsouth.org
SUMMARY:Discounted Rate for Hotels DEADLINE - SLC 2023
DESCRIPTION:You must register for SLC before booking a room. Once registered\, a link for booking your discounted room will be sent to the email address you provided during registration. First-come\, first serve room availability!\n  \nRegister here
URL:https://csgsouth.org/event/discounted-rate-for-hotels-deadline-slc-2023/
CATEGORIES:Southern Legislative Conference
ATTACH;FMTTYPE=image/png:https://csgsouth.org/wp-content/uploads/SLC-SC-2023-Logo-Date.png
END:VEVENT
END:VCALENDAR