BEGIN:VCALENDAR
VERSION:2.0
PRODID:-//CSG South - ECPv6.8.1//NONSGML v1.0//EN
CALSCALE:GREGORIAN
METHOD:PUBLISH
X-WR-CALNAME:CSG South
X-ORIGINAL-URL:https://csgsouth.org
X-WR-CALDESC:Events for CSG South
REFRESH-INTERVAL;VALUE=DURATION:PT1H
X-Robots-Tag:noindex
X-PUBLISHED-TTL:PT1H
BEGIN:VTIMEZONE
TZID:America/Chicago
BEGIN:DAYLIGHT
TZOFFSETFROM:-0600
TZOFFSETTO:-0500
TZNAME:CDT
DTSTART:20240310T080000
END:DAYLIGHT
BEGIN:STANDARD
TZOFFSETFROM:-0500
TZOFFSETTO:-0600
TZNAME:CST
DTSTART:20241103T070000
END:STANDARD
END:VTIMEZONE
BEGIN:VEVENT
DTSTART;VALUE=DATE:20240517
DTEND;VALUE=DATE:20240518
DTSTAMP:20260424T232007
CREATED:20240301T160541Z
LAST-MODIFIED:20240301T160541Z
UID:7859-1715904000-1715990399@csgsouth.org
SUMMARY:STAR Application Due
DESCRIPTION:
URL:https://csgsouth.org/event/star-application-due/
CATEGORIES:Southern Legislative Conference
ATTACH;FMTTYPE=image/jpeg:https://csgsouth.org/wp-content/uploads/CSGS_ProgramLogos_STAR-stacked.jpg
END:VEVENT
BEGIN:VEVENT
DTSTART;VALUE=DATE:20240517
DTEND;VALUE=DATE:20240518
DTSTAMP:20260424T232007
CREATED:20240301T160635Z
LAST-MODIFIED:20240301T160635Z
UID:7861-1715904000-1715990399@csgsouth.org
SUMMARY:SLC Early Bird Registration Ends
DESCRIPTION:
URL:https://csgsouth.org/event/slc-early-bird-registration-ends/
CATEGORIES:Southern Legislative Conference
ATTACH;FMTTYPE=image/png:https://csgsouth.org/wp-content/uploads/2023.06.08_Full-Color-Stacked-Logo_Date-2-2.png
END:VEVENT
END:VCALENDAR