BEGIN:VCALENDAR
VERSION:2.0
PRODID:-//CSG South - ECPv6.8.1//NONSGML v1.0//EN
CALSCALE:GREGORIAN
METHOD:PUBLISH
X-WR-CALNAME:CSG South
X-ORIGINAL-URL:https://csgsouth.org
X-WR-CALDESC:Events for CSG South
REFRESH-INTERVAL;VALUE=DURATION:PT1H
X-Robots-Tag:noindex
X-PUBLISHED-TTL:PT1H
BEGIN:VTIMEZONE
TZID:America/Chicago
BEGIN:DAYLIGHT
TZOFFSETFROM:-0600
TZOFFSETTO:-0500
TZNAME:CDT
DTSTART:20250309T080000
END:DAYLIGHT
BEGIN:STANDARD
TZOFFSETFROM:-0500
TZOFFSETTO:-0600
TZNAME:CST
DTSTART:20251102T070000
END:STANDARD
END:VTIMEZONE
BEGIN:VEVENT
DTSTART;VALUE=DATE:20250923
DTEND;VALUE=DATE:20250927
DTSTAMP:20260424T190121
CREATED:20250507T171345Z
LAST-MODIFIED:20260303T154642Z
UID:10396-1758585600-1758931199@csgsouth.org
SUMMARY:What’s the Buzz from the Beehive State? Smart Growth Strategies from Outside the South
DESCRIPTION:Between 2010 and 2020\, Utah was the fastest-growing state in the United States. Post-COVID\, the Sunbelt States – particularly those within the CSG South region – have seen widespread population booms that bring much potential and pitfalls for state policymakers to consider. Whether addressing land use and zoning\, water use and conservation\, building safety codes\, or other smart growth policies\, state leaders in the South have much to consider. As such\, CSG South policymakers may find it helpful to look outside the region and explore the strategic statewide plan in the Beehive State\, which features a coalition of state government\, private sector\, educational\, nonprofit\, conservation\, and other organizations that are on the same pathway to growth that benefits Utahns while protecting water supplies and expanding statewide transportation infrastructure. Several states in the South have raised concerns or sought to address the issues of unchecked growth\, such as Florida\, Georgia\, Oklahoma\, South Carolina\, and Virginia\, on issues as diverse as zoning reforms\, rural land use protections\, home hardening\, and energy efficiency incentives\, and transportation reforms. States like Oklahoma also run a similar risk of water shortages that Envision Utah and the Utah Growth Commission and Land Use Institute are addressing. Participants in this masterclass will explore the common challenges and potential solutions shared with Utahns as they both benefit from and face new pitfalls due to rapid growth. \nSubmit an interest form today!
URL:https://csgsouth.org/event/whats-the-buzz-from-the-beehive-state-smart-growth-strategies-from-outside-the-south/
LOCATION:Salt Lake City\, Utah\, United States
CATEGORIES:Policy Masterclass
ATTACH;FMTTYPE=image/png:https://csgsouth.org/wp-content/uploads/PolicyMasterclass-585x460-3-e1746637498839.png
END:VEVENT
END:VCALENDAR